OziExplorer Map Data File Version 2.2
Suhach.jpg
e:\maps\Suhach.jpg
1 ,Map Code,
Pulkovo 1942 (1),WGS 84, 0.0000, 0.0000,WGS 84
Reserved 1
Reserved 2
Magnetic Variation,,,E
Map Projection,Transverse Mercator,PolyCal,No,AutoCalOnly,No,BSBUseWPX,No
Point01,xy, 109, 80,in, deg, , ,N, , ,E, grid, , 632000, 5373000,N
Point02,xy, 99, 1969,in, deg, , ,N, , ,E, grid, , 632000, 5369000,N
Point03,xy, 2930, 1980,in, deg, , ,N, , ,E, grid, , 638000, 5369000,N
Point04,xy, 2936, 92,in, deg, , ,N, , ,E, grid, , 638000, 5373000,N
Point05,xy, 101, 1024,in, deg, , ,N, , ,E, grid, , 632000, 5371000,N
Point06,xy, 2933, 1035,in, deg, , ,N, , ,E, grid, , 638000, 5371000,N
Point07,xy, 1042, 1026,in, deg, , ,N, , ,E, grid, , 634000, 5371000,N
Point08,xy, 1984, 1030,in, deg, , ,N, , ,E, grid, , 636000, 5371000,N
Point09,xy, , ,in, deg, , ,N, , ,E, grid, , , ,N
Point10,xy, , ,in, deg, , ,N, , ,W, grid, , , ,N
Point11,xy, , ,in, deg, , ,N, , ,W, grid, , , ,N
Point12,xy, , ,in, deg, , ,N, , ,W, grid, , , ,N
Point13,xy, , ,in, deg, , ,N, , ,W, grid, , , ,N
Point14,xy, , ,in, deg, , ,N, , ,W, grid, , , ,N
Point15,xy, , ,in, deg, , ,N, , ,W, grid, , , ,N
Point16,xy, , ,in, deg, , ,N, , ,W, grid, , , ,N
Point17,xy, , ,in, deg, , ,N, , ,W, grid, , , ,N
Point18,xy, , ,in, deg, , ,N, , ,W, grid, , , ,N
Point19,xy, , ,in, deg, , ,N, , ,W, grid, , , ,N
Point20,xy, , ,in, deg, , ,N, , ,W, grid, , , ,N
Point21,xy, , ,in, deg, , ,N, , ,W, grid, , , ,N
Point22,xy, , ,in, deg, , ,N, , ,W, grid, , , ,N
Point23,xy, , ,in, deg, , ,N, , ,W, grid, , , ,N
Point24,xy, , ,in, deg, , ,N, , ,W, grid, , , ,N
Point25,xy, , ,in, deg, , ,N, , ,W, grid, , , ,N
Point26,xy, , ,in, deg, , ,N, , ,W, grid, , , ,N
Point27,xy, , ,in, deg, , ,N, , ,W, grid, , , ,N
Point28,xy, , ,in, deg, , ,N, , ,W, grid, , , ,N
Point29,xy, , ,in, deg, , ,N, , ,W, grid, , , ,N
Point30,xy, , ,in, deg, , ,N, , ,W, grid, , , ,N
Projection Setup, 0.000000000, 33.000000000, 1.000000000, 500000.00, 0.00,,,,,
Map Feature = MF ; Map Comment = MC These follow if they exist
Track File = TF These follow if they exist
Moving Map Parameters = MM? These follow if they exist
MM0,Yes
MMPNUM,4
MMPXY,1,0,0
MMPXY,2,3047,0
MMPXY,3,3047,2057
MMPXY,4,0,2057
MMPLL,1, 34.782339, 48.477636
MMPLL,2, 34.869679, 48.476483
MMPLL,3, 34.868491, 48.437320
MMPLL,4, 34.781218, 48.438472
MM1B,2.119364
MOP,Map Open Position,0,0
IWH,Map Image Width/Height,3047,2057
