OziExplorer Map Data File Version 2.2
Горячий Ключ - Туапсе (туркарта)
kavkazkot4.jpg
1 ,Map Code,
Pulkovo 1942 (1),WGS 84, 0.0000, 0.0000,WGS 84
Reserved 1
Reserved 2
Magnetic Variation,,,E
Map Projection,Transverse Mercator,PolyCal,No,AutoCalOnly,No,BSBUseWPX,No
Point01,xy, 1904, 2645,in, deg, 44, 18.3779,N, 39, 5.7472,E, grid, , , ,N
Point02,xy, 2435, 2592,in, deg, 44, 18.2715,N, 39, 14.5019,E, grid, , , ,N
Point03,xy, 2453, 3449,in, deg, 44, 7.9566,N, 39, 13.0871,E, grid, , , ,N
Point04,xy, 1893, 3452,in, deg, 44, 8.7773,N, 39, 3.8359,E, grid, , , ,N
Point05,xy, 1834, 3088,in, deg, 44, 13.1861,N, 39, 3.6916,E, grid, , , ,N
Point06,xy, 2179, 2893,in, deg, 44, 15.0012,N, 39, 9.6952,E, grid, , , ,N
Point07,xy, , ,in, deg, , ,N, , ,E, grid, , , ,N
Point08,xy, , ,in, deg, , ,N, , ,E, grid, , , ,N
Point09,xy, , ,in, deg, , ,N, , ,E, grid, , , ,N
Point10,xy, , ,in, deg, , ,N, , ,W, grid, , , ,N
Point11,xy, , ,in, deg, , ,N, , ,W, grid, , , ,N
Point12,xy, , ,in, deg, , ,N, , ,W, grid, , , ,N
Point13,xy, , ,in, deg, , ,N, , ,W, grid, , , ,N
Point14,xy, , ,in, deg, , ,N, , ,W, grid, , , ,N
Point15,xy, , ,in, deg, , ,N, , ,W, grid, , , ,N
Point16,xy, , ,in, deg, , ,N, , ,W, grid, , , ,N
Point17,xy, , ,in, deg, , ,N, , ,W, grid, , , ,N
Point18,xy, , ,in, deg, , ,N, , ,W, grid, , , ,N
Point19,xy, , ,in, deg, , ,N, , ,W, grid, , , ,N
Point20,xy, , ,in, deg, , ,N, , ,W, grid, , , ,N
Point21,xy, , ,in, deg, , ,N, , ,W, grid, , , ,N
Point22,xy, , ,in, deg, , ,N, , ,W, grid, , , ,N
Point23,xy, , ,in, deg, , ,N, , ,W, grid, , , ,N
Point24,xy, , ,in, deg, , ,N, , ,W, grid, , , ,N
Point25,xy, , ,in, deg, , ,N, , ,W, grid, , , ,N
Point26,xy, , ,in, deg, , ,N, , ,W, grid, , , ,N
Point27,xy, , ,in, deg, , ,N, , ,W, grid, , , ,N
Point28,xy, , ,in, deg, , ,N, , ,W, grid, , , ,N
Point29,xy, , ,in, deg, , ,N, , ,W, grid, , , ,N
Point30,xy, , ,in, deg, , ,N, , ,W, grid, , , ,N
Projection Setup, 0.000000000, 39.000000000, 1.000000000, 500000.00, 0.00,,,,,
Map Feature = MF ; Map Comment = MC These follow if they exist
Track File = TF These follow if they exist
Moving Map Parameters = MM? These follow if they exist
MM0,Yes
MMPNUM,4
MMPXY,1,0,0
MMPXY,2,2729,0
MMPXY,3,2729,4000
MMPXY,4,0,4000
MMPLL,1, 38.661086, 44.878979
MMPLL,2, 39.413843, 44.813309
MMPLL,3, 39.273554, 44.016251
MMPLL,4, 38.530821, 44.081047
MM1B,21.799827
MOP,Map Open Position,0,0
IWH,Map Image Width/Height,2729,4000
